BEGIN:VCALENDAR
VERSION:2.0
PRODID:-//pretix//pretix.eu//
BEGIN:VTIMEZONE
TZID:Europe/Berlin
BEGIN:STANDARD
DTSTART:20001029T040000
RRULE:FREQ=YEARLY;BYDAY=-1SU;BYMONTH=10
TZNAME:CET
TZOFFSETFROM:+0200
TZOFFSETTO:+0100
END:STANDARD
BEGIN:DAYLIGHT
DTSTART:20000326T030000
RRULE:FREQ=YEARLY;BYDAY=-1SU;BYMONTH=3
TZNAME:CEST
TZOFFSETFROM:+0100
TZOFFSETTO:+0200
END:DAYLIGHT
END:VTIMEZONE
BEGIN:VEVENT
UID:pretix-bzt-2610-md-0@tickets.kulturzentrum-trudering.de
DTSTART;TZID=Europe/Berlin:20260202T180000
DTEND;TZID=Europe/Berlin:20260323T193000
DESCRIPTION:Tickets: https://tickets.kulturzentrum-trudering.de/2610-md/\nV
 eranstalter: Kulturzentrum Trudering
DTSTAMP:20260422T120415Z
LOCATION:Kulturzentrum Trudering\, Wasserburger Landstr. 32\, 81825 Münche
 n
SUMMARY:Trudering trommelt 2026
END:VEVENT
BEGIN:VEVENT
UID:pretix-bzt-2609-lk-0@tickets.kulturzentrum-trudering.de
DTSTART;TZID=Europe/Berlin:20260424T193000
DTEND;TZID=Europe/Berlin:20260424T203000
DESCRIPTION:Tickets: https://tickets.kulturzentrum-trudering.de/2609-lk/\nV
 eranstalter: Kulturzentrum Trudering
DTSTAMP:20260422T120415Z
LOCATION:Kulturzentrum Trudering\, Wasserburger Landstr. 32\, 81825 Münche
 n
SUMMARY:Luise Kinseher - MARY FROM BAVARY - Endlich SOLO!
END:VEVENT
BEGIN:VEVENT
UID:pretix-bzt-2605-lk-0@tickets.kulturzentrum-trudering.de
DTSTART;TZID=Europe/Berlin:20260508T193000
DTEND;TZID=Europe/Berlin:20260508T203000
DESCRIPTION:Tickets: https://tickets.kulturzentrum-trudering.de/2605-lk/\nV
 eranstalter: Kulturzentrum Trudering
DTSTAMP:20260422T120415Z
LOCATION:Kulturzentrum Trudering\, Wasserburger Landstr. 32\, 81825 Münche
 n
SUMMARY:Lucy van Kuhl
END:VEVENT
BEGIN:VEVENT
UID:pretix-bzt-2615-md-0@tickets.kulturzentrum-trudering.de
DTSTART;TZID=Europe/Berlin:20260511T180000
DTEND;TZID=Europe/Berlin:20260727T193000
DESCRIPTION:Tickets: https://tickets.kulturzentrum-trudering.de/2615-md/\nV
 eranstalter: Kulturzentrum Trudering
DTSTAMP:20260422T120415Z
LOCATION:Kulturzentrum Trudering\, Wasserburger Landstr. 32\, 81825 Münche
 n
SUMMARY:Trudering trommelt Mai bis Juli 2026
END:VEVENT
BEGIN:VEVENT
UID:pretix-bzt-2615-ce-0@tickets.kulturzentrum-trudering.de
DTSTART;TZID=Europe/Berlin:20260520T193000
DTEND;TZID=Europe/Berlin:20260520T203000
DESCRIPTION:Tickets: https://tickets.kulturzentrum-trudering.de/2615-ce/\nV
 eranstalter: Kulturzentrum Trudering
DTSTAMP:20260422T120415Z
LOCATION:Kulturzentrum Trudering\, Wasserburger Landstr. 32\, 81825 Münche
 n
SUMMARY:Cate Evens
END:VEVENT
BEGIN:VEVENT
UID:pretix-bzt-2616-mr-0@tickets.kulturzentrum-trudering.de
DTSTART;TZID=Europe/Berlin:20260607T190000
DTEND;TZID=Europe/Berlin:20260607T200000
DESCRIPTION:Tickets: https://tickets.kulturzentrum-trudering.de/2616-mr/\nV
 eranstalter: Kulturzentrum Trudering
DTSTAMP:20260422T120415Z
LOCATION:Kulturzentrum Trudering\, Wasserburger Landstr. 32\, 81825 Münche
 n
SUMMARY:"Die Ver(w)irrungen des Nepermuk Semmelmeier"
END:VEVENT
BEGIN:VEVENT
UID:pretix-bzt-2607-sw-0@tickets.kulturzentrum-trudering.de
DTSTART;TZID=Europe/Berlin:20260613T090000
DTEND;TZID=Europe/Berlin:20260614T170000
DESCRIPTION:Tickets: https://tickets.kulturzentrum-trudering.de/2607-sw/\nV
 eranstalter: Kulturzentrum Trudering
DTSTAMP:20260422T120415Z
LOCATION:Kulturzentrum Trudering \,Wasserburgerlandstrasse 32 \,81825 Münc
 hen
SUMMARY:„Songwriting Complete“ Wochenende am 13./14. Juni 2026.
END:VEVENT
BEGIN:VEVENT
UID:pretix-bzt-2614-in-0@tickets.kulturzentrum-trudering.de
DTSTART;TZID=Europe/Berlin:20260724T193000
DTEND;TZID=Europe/Berlin:20260724T203000
DESCRIPTION:Tickets: https://tickets.kulturzentrum-trudering.de/2614-in/\nV
 eranstalter: Kulturzentrum Trudering
DTSTAMP:20260422T120415Z
LOCATION:Kulturzentrum Trudering\, Wasserburger Landstr. 32\, 81825 Münche
 n
SUMMARY:Italienische Nacht
END:VEVENT
END:VCALENDAR
