BEGIN:VCALENDAR
VERSION:2.0
PRODID:-//pretix//pretix.eu//
BEGIN:VTIMEZONE
TZID:Europe/Berlin
BEGIN:STANDARD
DTSTART:20001029T040000
RRULE:FREQ=YEARLY;BYDAY=-1SU;BYMONTH=10
TZNAME:CET
TZOFFSETFROM:+0200
TZOFFSETTO:+0100
END:STANDARD
BEGIN:DAYLIGHT
DTSTART:20000326T030000
RRULE:FREQ=YEARLY;BYDAY=-1SU;BYMONTH=3
TZNAME:CEST
TZOFFSETFROM:+0100
TZOFFSETTO:+0200
END:DAYLIGHT
END:VTIMEZONE
BEGIN:VEVENT
UID:pretix-bzt-2405-lb-4138977@tickets.kulturzentrum-trudering.de
DTSTART;TZID=Europe/Berlin:20240729T190000
DTEND;TZID=Europe/Berlin:20240729T200000
DESCRIPTION:Tickets: https://tickets.kulturzentrum-trudering.de/2405-lb/413
 8977/\nVeranstalter: Kulturzentrum Trudering
DTSTAMP:20260420T173618Z
LOCATION:Kulturzentrum Trudering\, Wasserburger Landstr. 32\, 81825 Münche
 n
SUMMARY:Bayerischer Abend des Humors
END:VEVENT
END:VCALENDAR
